BEGIN:VCALENDAR
VERSION:2.0
PRODID:-//ZContent.net//ZapCalLib 1.0//EN
CALSCALE:GREGORIAN
METHOD:PUBLISH
BEGIN:VEVENT
UID:69e610c76c9c6@usbands.org
SUMMARY:Perkiomen Valley High School
DTSTART:20240316T130000
DTEND:20240316T220000
DTSTAMP:20260420T114055
LOCATION:Collegeville\, PA
DESCRIPTION:Perkiomen Valley High School
END:VEVENT
END:VCALENDAR
