BEGIN:VCALENDAR
VERSION:2.0
PRODID:-//ZContent.net//ZapCalLib 1.0//EN
CALSCALE:GREGORIAN
METHOD:PUBLISH
BEGIN:VEVENT
UID:69e5e51a2748f@usbands.org
SUMMARY:Ludwig Musser Classic
DTSTART:20241012T060000
DTEND:20241012T190000
DTSTAMP:20260420T083434
LOCATION:East Rutherford\, NJ
DESCRIPTION:Ludwig Musser Classic
END:VEVENT
END:VCALENDAR
