BEGIN:VCALENDAR
VERSION:2.0
PRODID:-//ZContent.net//ZapCalLib 1.0//EN
CALSCALE:GREGORIAN
METHOD:PUBLISH
BEGIN:VEVENT
UID:69e88a905d32d@usbands.org
SUMMARY:New Oxford High School - CLINIC EVENT
DTSTART:20240914T110000
DTEND:20240914T180000
DTSTAMP:20260422T084504
LOCATION:New Oxford\, PA
DESCRIPTION:New Oxford High School - CLINIC EVENT
END:VEVENT
END:VCALENDAR
