BEGIN:VCALENDAR
VERSION:2.0
PRODID:-//ZContent.net//ZapCalLib 1.0//EN
CALSCALE:GREGORIAN
METHOD:PUBLISH
BEGIN:VEVENT
UID:69e5e8c29b4b3@usbands.org
SUMMARY:Great Mills High School
DTSTART:20240907T150000
DTEND:20240907T190000
DTSTAMP:20260420T085010
LOCATION:Great Mills\, MD
DESCRIPTION:Great Mills High School
END:VEVENT
END:VCALENDAR
