BEGIN:VCALENDAR
VERSION:2.0
PRODID:-//ZContent.net//ZapCalLib 1.0//EN
CALSCALE:GREGORIAN
METHOD:PUBLISH
BEGIN:VEVENT
UID:69e5e8ba3892d@usbands.org
SUMMARY:Souderton High School - CLINIC EVENT
DTSTART:20240914T120000
DTEND:20240914T090100
DTSTAMP:20260420T085002
LOCATION:Souderton\, PA
DESCRIPTION:Souderton High School - CLINIC EVENT
END:VEVENT
END:VCALENDAR
