BEGIN:VCALENDAR
VERSION:2.0
PRODID:-//ZContent.net//ZapCalLib 1.0//EN
CALSCALE:GREGORIAN
METHOD:PUBLISH
BEGIN:VEVENT
UID:69e5e89bc08b6@usbands.org
SUMMARY:Bethel High School
DTSTART:20240907T160000
DTEND:20240907T190000
DTSTAMP:20260420T084931
LOCATION:Bethel\, CT
DESCRIPTION:Bethel High School
END:VEVENT
END:VCALENDAR
