BEGIN:VCALENDAR
VERSION:2.0
PRODID:-//ZContent.net//ZapCalLib 1.0//EN
CALSCALE:GREGORIAN
METHOD:PUBLISH
BEGIN:VEVENT
UID:69e5fbd4a2e69@usbands.org
SUMMARY:Francis T. Maloney High School
DTSTART:20240914T150000
DTEND:20240914T190000
DTSTAMP:20260420T101132
LOCATION:Meriden\, CT
DESCRIPTION:Francis T. Maloney High School
END:VEVENT
END:VCALENDAR
