BEGIN:VCALENDAR
VERSION:2.0
PRODID:-//ZContent.net//ZapCalLib 1.0//EN
CALSCALE:GREGORIAN
METHOD:PUBLISH
BEGIN:VEVENT
UID:69e5fbd6d1c9b@usbands.org
SUMMARY:Quakertown High School
DTSTART:20240921T150000
DTEND:20240921T190000
DTSTAMP:20260420T101134
LOCATION:Quakertown\, PA
DESCRIPTION:Quakertown High School
END:VEVENT
END:VCALENDAR
