BEGIN:VCALENDAR
VERSION:2.0
PRODID:-//ZContent.net//ZapCalLib 1.0//EN
CALSCALE:GREGORIAN
METHOD:PUBLISH
BEGIN:VEVENT
UID:69e5e8ba905ad@usbands.org
SUMMARY:McMahon & Norwalk High Schools at BMHS
DTSTART:20240914T150000
DTEND:20240914T190000
DTSTAMP:20260420T085002
LOCATION:Norwalk\, CT
DESCRIPTION:McMahon & Norwalk High Schools at BMHS
END:VEVENT
END:VCALENDAR
