BEGIN:VCALENDAR
VERSION:2.0
PRODID:-//ZContent.net//ZapCalLib 1.0//EN
CALSCALE:GREGORIAN
METHOD:PUBLISH
BEGIN:VEVENT
UID:69e5e8ba19cd5@usbands.org
SUMMARY:Huntingtown High School
DTSTART:20240914T080000
DTEND:20240914T190000
DTSTAMP:20260420T085002
LOCATION:Huntingtown\, MD
DESCRIPTION:Huntingtown High School
END:VEVENT
END:VCALENDAR
