BEGIN:VCALENDAR
VERSION:2.0
PRODID:-//ZContent.net//ZapCalLib 1.0//EN
CALSCALE:GREGORIAN
METHOD:PUBLISH
BEGIN:VEVENT
UID:69e619d7d1ba6@usbands.org
SUMMARY:Burlington City High School
DTSTART:20240914T120000
DTEND:20240914T190000
DTSTAMP:20260420T121935
LOCATION:Burlington\, NJ
DESCRIPTION:Burlington City High School
END:VEVENT
END:VCALENDAR
