BEGIN:VCALENDAR
VERSION:2.0
PRODID:-//ZContent.net//ZapCalLib 1.0//EN
CALSCALE:GREGORIAN
METHOD:PUBLISH
BEGIN:VEVENT
UID:69e5e519c2147@usbands.org
SUMMARY:Spring-Ford Area High School
DTSTART:20240914T120000
DTEND:20240914T190000
DTSTAMP:20260420T083433
LOCATION:Royersford\, PA
DESCRIPTION:Spring-Ford Area High School
END:VEVENT
END:VCALENDAR
