BEGIN:VCALENDAR
VERSION:2.0
PRODID:-//ZContent.net//ZapCalLib 1.0//EN
CALSCALE:GREGORIAN
METHOD:PUBLISH
BEGIN:VEVENT
UID:69e6130c27471@usbands.org
SUMMARY:Sparta High School
DTSTART:20240914T120000
DTEND:20240914T190000
DTSTAMP:20260420T115036
LOCATION:Sparta Township\, NJ
DESCRIPTION:Sparta High School
END:VEVENT
END:VCALENDAR
