BEGIN:VCALENDAR
VERSION:2.0
PRODID:-//ZContent.net//ZapCalLib 1.0//EN
CALSCALE:GREGORIAN
METHOD:PUBLISH
BEGIN:VEVENT
UID:69e5e8ba16b23@usbands.org
SUMMARY:East Lyme High School
DTSTART:20240921T150000
DTEND:20240921T190000
DTSTAMP:20260420T085002
LOCATION:East Lyme\, CT
DESCRIPTION:East Lyme High School
END:VEVENT
END:VCALENDAR
