BEGIN:VCALENDAR
VERSION:2.0
PRODID:-//ZContent.net//ZapCalLib 1.0//EN
CALSCALE:GREGORIAN
METHOD:PUBLISH
BEGIN:VEVENT
UID:69e5e51926736@usbands.org
SUMMARY:New Milford High School
DTSTART:20240921T150000
DTEND:20240921T190000
DTSTAMP:20260420T083433
LOCATION:New Milford\, CT
DESCRIPTION:New Milford High School
END:VEVENT
END:VCALENDAR
