BEGIN:VCALENDAR
VERSION:2.0
PRODID:-//ZContent.net//ZapCalLib 1.0//EN
CALSCALE:GREGORIAN
METHOD:PUBLISH
BEGIN:VEVENT
UID:69e5e8bb4c161@usbands.org
SUMMARY:Blackstone-Millville Regional High School
DTSTART:20240921T151500
DTEND:20240921T190000
DTSTAMP:20260420T085003
LOCATION:Bellingham\, MA
DESCRIPTION:Blackstone-Millville Regional High School
END:VEVENT
END:VCALENDAR
