BEGIN:VCALENDAR
VERSION:2.0
PRODID:-//ZContent.net//ZapCalLib 1.0//EN
CALSCALE:GREGORIAN
METHOD:PUBLISH
BEGIN:VEVENT
UID:69e5fbd25a3aa@usbands.org
SUMMARY:Patuxent High School
DTSTART:20240921T090000
DTEND:20240921T190000
DTSTAMP:20260420T101130
LOCATION:Lusby\, MD
DESCRIPTION:Patuxent High School
END:VEVENT
END:VCALENDAR
