BEGIN:VCALENDAR
VERSION:2.0
PRODID:-//ZContent.net//ZapCalLib 1.0//EN
CALSCALE:GREGORIAN
METHOD:PUBLISH
BEGIN:VEVENT
UID:69e5e5193cb4f@usbands.org
SUMMARY:Bordentown Regional High School
DTSTART:20240921T090000
DTEND:20240921T190000
DTSTAMP:20260420T083433
LOCATION:Bordentown\, NJ
DESCRIPTION:Bordentown Regional High School
END:VEVENT
END:VCALENDAR
