BEGIN:VCALENDAR
VERSION:2.0
PRODID:-//ZContent.net//ZapCalLib 1.0//EN
CALSCALE:GREGORIAN
METHOD:PUBLISH
BEGIN:VEVENT
UID:69e5e519ef547@usbands.org
SUMMARY:Absegami High School
DTSTART:20240921T151500
DTEND:20240921T190000
DTSTAMP:20260420T083433
LOCATION:Galloway\, NJ
DESCRIPTION:Absegami High School
END:VEVENT
END:VCALENDAR
