BEGIN:VCALENDAR
VERSION:2.0
PRODID:-//ZContent.net//ZapCalLib 1.0//EN
CALSCALE:GREGORIAN
METHOD:PUBLISH
BEGIN:VEVENT
UID:69e5fbb22e80b@usbands.org
SUMMARY:Northern Valley Regional High School at Old Tappan
DTSTART:20240921T115000
DTEND:20240921T190000
DTSTAMP:20260420T101058
LOCATION:Old Tappan\, NJ
DESCRIPTION:Northern Valley Regional High School at Old Tappan
END:VEVENT
END:VCALENDAR
