BEGIN:VCALENDAR
VERSION:2.0
PRODID:-//ZContent.net//ZapCalLib 1.0//EN
CALSCALE:GREGORIAN
METHOD:PUBLISH
BEGIN:VEVENT
UID:69e5e8be899b0@usbands.org
SUMMARY:Hunterdon Central Regional High School
DTSTART:20240921T121500
DTEND:20240921T190000
DTSTAMP:20260420T085006
LOCATION:Flemington\, NJ
DESCRIPTION:Hunterdon Central Regional High School
END:VEVENT
END:VCALENDAR
