BEGIN:VCALENDAR
VERSION:2.0
PRODID:-//ZContent.net//ZapCalLib 1.0//EN
CALSCALE:GREGORIAN
METHOD:PUBLISH
BEGIN:VEVENT
UID:69e5e89d1003c@usbands.org
SUMMARY:West Shore Marching Band
DTSTART:20240921T150000
DTEND:20240921T190000
DTSTAMP:20260420T084933
LOCATION:Camp Hill\, PA
DESCRIPTION:West Shore Marching Band
END:VEVENT
END:VCALENDAR
