BEGIN:VCALENDAR
VERSION:2.0
PRODID:-//ZContent.net//ZapCalLib 1.0//EN
CALSCALE:GREGORIAN
METHOD:PUBLISH
BEGIN:VEVENT
UID:69e5ef6c4c064@usbands.org
SUMMARY:Rustin High School
DTSTART:20240921T130000
DTEND:20240921T190000
DTSTAMP:20260420T091836
LOCATION:West Chester\, PA
DESCRIPTION:Rustin High School
END:VEVENT
END:VCALENDAR
