BEGIN:VCALENDAR
VERSION:2.0
PRODID:-//ZContent.net//ZapCalLib 1.0//EN
CALSCALE:GREGORIAN
METHOD:PUBLISH
BEGIN:VEVENT
UID:69e5e8bee2b5d@usbands.org
SUMMARY:Trumbull High School
DTSTART:20240928T130000
DTEND:20240928T150100
DTSTAMP:20260420T085006
LOCATION:Trumbull\, CT
DESCRIPTION:Trumbull High School
END:VEVENT
END:VCALENDAR
