BEGIN:VCALENDAR
VERSION:2.0
PRODID:-//ZContent.net//ZapCalLib 1.0//EN
CALSCALE:GREGORIAN
METHOD:PUBLISH
BEGIN:VEVENT
UID:69e5e8bf456f2@usbands.org
SUMMARY:Rocky Hill High School
DTSTART:20240928T120000
DTEND:20240928T150100
DTSTAMP:20260420T085007
LOCATION:Rocky Hill\, CT
DESCRIPTION:Rocky Hill High School
END:VEVENT
END:VCALENDAR
