BEGIN:VCALENDAR
VERSION:2.0
PRODID:-//ZContent.net//ZapCalLib 1.0//EN
CALSCALE:GREGORIAN
METHOD:PUBLISH
BEGIN:VEVENT
UID:69e5e519ac52f@usbands.org
SUMMARY:Norwich Free Academy
DTSTART:20240928T150000
DTEND:20240928T150100
DTSTAMP:20260420T083433
LOCATION:Norwich\, CT
DESCRIPTION:Norwich Free Academy
END:VEVENT
END:VCALENDAR
