BEGIN:VCALENDAR
VERSION:2.0
PRODID:-//ZContent.net//ZapCalLib 1.0//EN
CALSCALE:GREGORIAN
METHOD:PUBLISH
BEGIN:VEVENT
UID:69e5e8c0838a8@usbands.org
SUMMARY:West Milford High School
DTSTART:20240928T121500
DTEND:20240928T150100
DTSTAMP:20260420T085008
LOCATION:West Milford\, NJ
DESCRIPTION:West Milford High School
END:VEVENT
END:VCALENDAR
