BEGIN:VCALENDAR
VERSION:2.0
PRODID:-//ZContent.net//ZapCalLib 1.0//EN
CALSCALE:GREGORIAN
METHOD:PUBLISH
BEGIN:VEVENT
UID:69e5fbb4d51e5@usbands.org
SUMMARY:South Brunswick High School
DTSTART:20240928T120000
DTEND:20240928T150100
DTSTAMP:20260420T101100
LOCATION:South Brunswick Township\, NJ
DESCRIPTION:South Brunswick High School
END:VEVENT
END:VCALENDAR
