BEGIN:VCALENDAR
VERSION:2.0
PRODID:-//ZContent.net//ZapCalLib 1.0//EN
CALSCALE:GREGORIAN
METHOD:PUBLISH
BEGIN:VEVENT
UID:69e5e89c7653f@usbands.org
SUMMARY:Shawnee High School
DTSTART:20240928T140000
DTEND:20240928T150100
DTSTAMP:20260420T084932
LOCATION:Medford\, NJ
DESCRIPTION:Shawnee High School
END:VEVENT
END:VCALENDAR
