BEGIN:VCALENDAR
VERSION:2.0
PRODID:-//ZContent.net//ZapCalLib 1.0//EN
CALSCALE:GREGORIAN
METHOD:PUBLISH
BEGIN:VEVENT
UID:69e5e8c0d1d0e@usbands.org
SUMMARY:Central Bucks South High School
DTSTART:20240928T120000
DTEND:20240928T150100
DTSTAMP:20260420T085008
LOCATION:Warrington\, PA
DESCRIPTION:Central Bucks South High School
END:VEVENT
END:VCALENDAR
