BEGIN:VCALENDAR
VERSION:2.0
PRODID:-//ZContent.net//ZapCalLib 1.0//EN
CALSCALE:GREGORIAN
METHOD:PUBLISH
BEGIN:VEVENT
UID:69e5e8c26d211@usbands.org
SUMMARY:Mechanicsburg Area Senior High School
DTSTART:20240928T150000
DTEND:20240928T150100
DTSTAMP:20260420T085010
LOCATION:Mechanicsburg\, PA
DESCRIPTION:Mechanicsburg Area Senior High School
END:VEVENT
END:VCALENDAR
