BEGIN:VCALENDAR
VERSION:2.0
PRODID:-//ZContent.net//ZapCalLib 1.0//EN
CALSCALE:GREGORIAN
METHOD:PUBLISH
BEGIN:VEVENT
UID:69e5e8bd74a91@usbands.org
SUMMARY:Auburn High School
DTSTART:20240928T090000
DTEND:20240928T120100
DTSTAMP:20260420T085005
LOCATION:Auburn\, NY
DESCRIPTION:Auburn High School
END:VEVENT
END:VCALENDAR
