BEGIN:VCALENDAR
VERSION:2.0
PRODID:-//ZContent.net//ZapCalLib 1.0//EN
CALSCALE:GREGORIAN
METHOD:PUBLISH
BEGIN:VEVENT
UID:69e5e8c85ff91@usbands.org
SUMMARY:Saginaw Regional
DTSTART:20240928T083000
DTEND:20240928T150100
DTSTAMP:20260420T085016
LOCATION:Saginaw\, TX
DESCRIPTION:Saginaw Regional
END:VEVENT
END:VCALENDAR
