BEGIN:VCALENDAR
VERSION:2.0
PRODID:-//ZContent.net//ZapCalLib 1.0//EN
CALSCALE:GREGORIAN
METHOD:PUBLISH
BEGIN:VEVENT
UID:69e5e518c24a7@usbands.org
SUMMARY:Austin Regional
DTSTART:20240928T080000
DTEND:20240928T150100
DTSTAMP:20260420T083432
LOCATION:Buda\, TX
DESCRIPTION:Austin Regional
END:VEVENT
END:VCALENDAR
