BEGIN:VCALENDAR
VERSION:2.0
PRODID:-//ZContent.net//ZapCalLib 1.0//EN
CALSCALE:GREGORIAN
METHOD:PUBLISH
BEGIN:VEVENT
UID:69e5e89cd60a0@usbands.org
SUMMARY:Madisonville Showcase
DTSTART:20240928T070000
DTEND:20240928T150100
DTSTAMP:20260420T084932
LOCATION:Madisonville\, TX
DESCRIPTION:Madisonville Showcase
END:VEVENT
END:VCALENDAR
