BEGIN:VCALENDAR
VERSION:2.0
PRODID:-//ZContent.net//ZapCalLib 1.0//EN
CALSCALE:GREGORIAN
METHOD:PUBLISH
BEGIN:VEVENT
UID:69e5fbb1c311c@usbands.org
SUMMARY:Houston Regional
DTSTART:20240928T070000
DTEND:20240928T150100
DTSTAMP:20260420T101057
LOCATION:Webster\, TX
DESCRIPTION:Houston Regional
END:VEVENT
END:VCALENDAR
