BEGIN:VCALENDAR
VERSION:2.0
PRODID:-//ZContent.net//ZapCalLib 1.0//EN
CALSCALE:GREGORIAN
METHOD:PUBLISH
BEGIN:VEVENT
UID:69e5fbd64cbde@usbands.org
SUMMARY:San Angelo Regional
DTSTART:20240928T100000
DTEND:20240928T150100
DTSTAMP:20260420T101134
LOCATION:San Angelo\, TX
DESCRIPTION:San Angelo Regional
END:VEVENT
END:VCALENDAR
