BEGIN:VCALENDAR
VERSION:2.0
PRODID:-//ZContent.net//ZapCalLib 1.0//EN
CALSCALE:GREGORIAN
METHOD:PUBLISH
BEGIN:VEVENT
UID:69e5e8bd1d7d7@usbands.org
SUMMARY:Newtown High School
DTSTART:20241005T150000
DTEND:20241005T150100
DTSTAMP:20260420T085005
LOCATION:Newtown\, CT
DESCRIPTION:Newtown High School
END:VEVENT
END:VCALENDAR
