BEGIN:VCALENDAR
VERSION:2.0
PRODID:-//ZContent.net//ZapCalLib 1.0//EN
CALSCALE:GREGORIAN
METHOD:PUBLISH
BEGIN:VEVENT
UID:69e5e5197f4ba@usbands.org
SUMMARY:Danbury High School
DTSTART:20241005T150000
DTEND:20241005T150100
DTSTAMP:20260420T083433
LOCATION:Danbury\, CT
DESCRIPTION:Danbury High School
END:VEVENT
END:VCALENDAR
