BEGIN:VCALENDAR
VERSION:2.0
PRODID:-//ZContent.net//ZapCalLib 1.0//EN
CALSCALE:GREGORIAN
METHOD:PUBLISH
BEGIN:VEVENT
UID:69e5fbb5befd2@usbands.org
SUMMARY:Central Lafourche High School
DTSTART:20241005T130000
DTEND:20241005T150100
DTSTAMP:20260420T101101
LOCATION:Raceland\, LA
DESCRIPTION:Central Lafourche High School
END:VEVENT
END:VCALENDAR
