BEGIN:VCALENDAR
VERSION:2.0
PRODID:-//ZContent.net//ZapCalLib 1.0//EN
CALSCALE:GREGORIAN
METHOD:PUBLISH
BEGIN:VEVENT
UID:69e88aba3419d@usbands.org
SUMMARY:Somerville High School
DTSTART:20241005T120000
DTEND:20241005T150100
DTSTAMP:20260422T084546
LOCATION:Somerville\, NJ
DESCRIPTION:Somerville High School
END:VEVENT
END:VCALENDAR
