BEGIN:VCALENDAR
VERSION:2.0
PRODID:-//ZContent.net//ZapCalLib 1.0//EN
CALSCALE:GREGORIAN
METHOD:PUBLISH
BEGIN:VEVENT
UID:69e5fbd2b2b22@usbands.org
SUMMARY:Lenape Valley Regional High School
DTSTART:20241005T140000
DTEND:20241005T150100
DTSTAMP:20260420T101130
LOCATION:Stanhope\, NJ
DESCRIPTION:Lenape Valley Regional High School
END:VEVENT
END:VCALENDAR
