BEGIN:VCALENDAR
VERSION:2.0
PRODID:-//ZContent.net//ZapCalLib 1.0//EN
CALSCALE:GREGORIAN
METHOD:PUBLISH
BEGIN:VEVENT
UID:69e5e51a6a14f@usbands.org
SUMMARY:Marine Corps Invitational
DTSTART:20241005T060000
DTEND:20241005T150100
DTSTAMP:20260420T083434
LOCATION:Annapolis\, MD
DESCRIPTION:Marine Corps Invitational
END:VEVENT
END:VCALENDAR
