BEGIN:VCALENDAR
VERSION:2.0
PRODID:-//ZContent.net//ZapCalLib 1.0//EN
CALSCALE:GREGORIAN
METHOD:PUBLISH
BEGIN:VEVENT
UID:69e619c904a21@usbands.org
SUMMARY:San Antonio Regional
DTSTART:20241005T100000
DTEND:20241005T150100
DTSTAMP:20260420T121921
LOCATION:San Antonio\, TX
DESCRIPTION:San Antonio Regional
END:VEVENT
END:VCALENDAR
