BEGIN:VCALENDAR
VERSION:2.0
PRODID:-//ZContent.net//ZapCalLib 1.0//EN
CALSCALE:GREGORIAN
METHOD:PUBLISH
BEGIN:VEVENT
UID:69e5e51a53a8d@usbands.org
SUMMARY:Crossroads Regional
DTSTART:20241005T080000
DTEND:20241005T150100
DTSTAMP:20260420T083434
LOCATION:Victoria\, TX
DESCRIPTION:Crossroads Regional
END:VEVENT
END:VCALENDAR
