BEGIN:VCALENDAR
VERSION:2.0
PRODID:-//ZContent.net//ZapCalLib 1.0//EN
CALSCALE:GREGORIAN
METHOD:PUBLISH
BEGIN:VEVENT
UID:69e5e8c02e2d5@usbands.org
SUMMARY:Dallas Regional
DTSTART:20241005T063000
DTEND:20241005T150100
DTSTAMP:20260420T085008
LOCATION:Fort Worth\, TX
DESCRIPTION:Dallas Regional
END:VEVENT
END:VCALENDAR
