BEGIN:VCALENDAR
VERSION:2.0
PRODID:-//ZContent.net//ZapCalLib 1.0//EN
CALSCALE:GREGORIAN
METHOD:PUBLISH
BEGIN:VEVENT
UID:69e5fbb34eba2@usbands.org
SUMMARY:Open Class National Championships
DTSTART:20241102T050000
DTEND:20241102T200000
DTSTAMP:20260420T101059
LOCATION:East Rutherford\, NJ
DESCRIPTION:Open Class National Championships
END:VEVENT
END:VCALENDAR
