BEGIN:VCALENDAR
VERSION:2.0
PRODID:-//ZContent.net//ZapCalLib 1.0//EN
CALSCALE:GREGORIAN
METHOD:PUBLISH
BEGIN:VEVENT
UID:69e5e8c2c64e7@usbands.org
SUMMARY:Naugatuck High School
DTSTART:20241012T150000
DTEND:20241012T150100
DTSTAMP:20260420T085010
LOCATION:Naugatuck\, CT
DESCRIPTION:Naugatuck High School
END:VEVENT
END:VCALENDAR
