BEGIN:VCALENDAR
VERSION:2.0
PRODID:-//ZContent.net//ZapCalLib 1.0//EN
CALSCALE:GREGORIAN
METHOD:PUBLISH
BEGIN:VEVENT
UID:69e6130c2c40a@usbands.org
SUMMARY:King Philip Regional High School
DTSTART:20241012T150000
DTEND:20241012T150100
DTSTAMP:20260420T115036
LOCATION:Wrentham\, MA
DESCRIPTION:King Philip Regional High School
END:VEVENT
END:VCALENDAR
