BEGIN:VCALENDAR
VERSION:2.0
PRODID:-//ZContent.net//ZapCalLib 1.0//EN
CALSCALE:GREGORIAN
METHOD:PUBLISH
BEGIN:VEVENT
UID:69e5e51a10eaa@usbands.org
SUMMARY:Leonardtown High School
DTSTART:20241012T120000
DTEND:20241012T150100
DTSTAMP:20260420T083434
LOCATION:Leonardtown\, MD
DESCRIPTION:Leonardtown High School
END:VEVENT
END:VCALENDAR
